BEGIN:VCALENDAR
VERSION:2.0
PRODID:-//The Hospital of St Cross - ECPv6.15.14//NONSGML v1.0//EN
CALSCALE:GREGORIAN
METHOD:PUBLISH
X-ORIGINAL-URL:https://hospitalofstcross.co.uk
X-WR-CALDESC:Events for The Hospital of St Cross
REFRESH-INTERVAL;VALUE=DURATION:PT1H
X-Robots-Tag:noindex
X-PUBLISHED-TTL:PT1H
BEGIN:VTIMEZONE
TZID:UTC
BEGIN:STANDARD
TZOFFSETFROM:+0000
TZOFFSETTO:+0000
TZNAME:UTC
DTSTART:20180101T000000
END:STANDARD
END:VTIMEZONE
BEGIN:VEVENT
DTSTART;TZID=UTC:20190209T193000
DTEND;TZID=UTC:20190209T213000
DTSTAMP:20260421T155336
CREATED:20190122T114142Z
LAST-MODIFIED:20190122T135713Z
UID:10000781-1549740600-1549747800@hospitalofstcross.co.uk
SUMMARY:Excalibur Voices Masses & Motets From Early To Modern
DESCRIPTION:Parsons: Ave Maria\nMartin: Mass for Double Choir\nJ.S. Bach: Komm Heiliger Geist\nTomkins: When David heard \nINTERVAL \nMiskinis: Angelis suis\nByrd: Mass in four parts\nLauridsen: Ubi caritas\nTodd: Angel Song II \nTickets available from https://tinyurl.com/excaliburvoices \n 
URL:https://hospitalofstcross.co.uk/event/excalibur-voices-masses-motets-from-early-to-modern/
LOCATION:The Hospital Of St Cross\, St Cross Road\, Winchester\, SO23 9SD\, United Kingdom
ATTACH;FMTTYPE=image/webp:https://hospitalofstcross.co.uk/wp-content/uploads/2019/01/Excalibur-Voices-e1548157142401.webp
END:VEVENT
END:VCALENDAR